BEGIN:VCALENDAR
VERSION:2.0
PRODID:-//Luana Schule Augsburg - ECPv6.0.11//NONSGML v1.0//EN
CALSCALE:GREGORIAN
METHOD:PUBLISH
X-ORIGINAL-URL:https://luana-augsburg.de
X-WR-CALDESC:Veranstaltungen für Luana Schule Augsburg
REFRESH-INTERVAL;VALUE=DURATION:PT1H
X-Robots-Tag:noindex
X-PUBLISHED-TTL:PT1H
BEGIN:VTIMEZONE
TZID:Europe/Paris
BEGIN:DAYLIGHT
TZOFFSETFROM:+0100
TZOFFSETTO:+0200
TZNAME:CEST
DTSTART:20260329T010000
END:DAYLIGHT
BEGIN:STANDARD
TZOFFSETFROM:+0200
TZOFFSETTO:+0100
TZNAME:CET
DTSTART:20261025T010000
END:STANDARD
END:VTIMEZONE
BEGIN:VEVENT
DTSTART;TZID=Europe/Paris:20261020T193000
DTEND;TZID=Europe/Paris:20261020T213000
DTSTAMP:20260420T033945
CREATED:20260315T131604Z
LAST-MODIFIED:20260315T131604Z
UID:2820-1792524600-1792531800@luana-augsburg.de
SUMMARY:Infoveranstaltung - online
DESCRIPTION:INFOVERANSTALTUNG\nzur freien\, demokratischen und inklusiven Schule Luana in Augsburg.\nDer Vortrag dauert circa 70min\, danach ist Zeit für Fragen. \nWir\, die Schulgründungsinitiative der Luana gGbmbH laden herzlich zu der kommenden Infoveranstaltungen ein.\nWir stellen das pädagogisches Konzept vor\, berichten vom aktuellen Stand der Schulgründung und lassen Raum für Fragen und Diskussionen.\nDie Veranstaltungen richten sich an Eltern\, Schüler*innen\, Pädagog*innen und alle Interessierten.\nWir freuen uns auf Euer Kommen! \nBitte tretet über diesen Link bei:\nhttps://meet.jit.si/LuanaSchuleAugsburg
URL:https://luana-augsburg.de/veranstaltung/infoveranstaltung-online-6/
CATEGORIES:öffentliche Veranstaltungen
END:VEVENT
END:VCALENDAR